BEGIN:VCALENDAR
VERSION:2.0
PRODID:-//Squarespace Inc/Squarespace 6//v6//EN
BEGIN:VEVENT
UID:56b3b0fbab48de92d9928a5c@squarespace.com
DTSTAMP:20160217T220125Z
DTSTART:20160224T211500Z
DTEND:20160304T170000Z
SUMMARY:QQI LEVEL 6 Manual Handling Instructor Course
GEO:53.445924;-6.224306
LOCATION:Premier Inn Dublin Airport (Airside)\, L2305\, Swords\, Dublin\, I
 reland (K67 E4A6)
END:VEVENT
END:VCALENDAR
