BEGIN:VCALENDAR
VERSION:2.0
PRODID:-//Squarespace Inc/Squarespace 6//v6//EN
BEGIN:VEVENT
UID:55631b75e4b01af401e3d8d9@squarespace.com
DTSTAMP:20150831T135908Z
DTSTART:20150624T080000Z
DTEND:20150624T160000Z
SUMMARY:PHECC CFR Community Instructor Recertification
GEO:53.444878;-6.208995
LOCATION:Holywell Community Centre\, Holywell Educate Together\, Swords\, D
 ublin\, Ireland
END:VEVENT
END:VCALENDAR
