BEGIN:VCALENDAR
VERSION:2.0
PRODID:-//Squarespace Inc/Squarespace 6//v6//EN
BEGIN:VEVENT
UID:556315cfe4b0ab57bbb6dd37@squarespace.com
DTSTAMP:20150831T135924Z
DTSTART:20150623T080000Z
DTEND:20150624T160000Z
SUMMARY:PHECC CFR Community Instructor Course
GEO:53.444878;-6.208995
LOCATION:Holywell Community Centre\, Holywell Educate Together\, Swords\, D
 ublin\, Ireland
END:VEVENT
END:VCALENDAR
