BEGIN:VCALENDAR
VERSION:2.0
PRODID:-//Squarespace Inc/Squarespace 6//v6//EN
BEGIN:VEVENT
UID:53f511fbe4b07e87b8ff1c51@squarespace.com
DTSTAMP:20151007T195510Z
DTSTART:20150806T081500Z
DTEND:20150827T160000Z
SUMMARY:Occupational First Aid Course QQI (FETAC) Level 5
GEO:53.444878;-6.208995
LOCATION:Holywell Community Centre\, Holywell Educate Together\, Swords\, D
 ublin\, Ireland
END:VEVENT
END:VCALENDAR
