BEGIN:VCALENDAR
VERSION:2.0
PRODID:-//Squarespace Inc/Squarespace 6//v6//EN
BEGIN:VEVENT
UID:5445244ce4b0b8e2e8230bea@squarespace.com
DTSTAMP:20160310T202306Z
DTSTART:20160421T081500Z
DTEND:20160421T160000Z
SUMMARY:Refresher Occupational First Aid Course
GEO:53.455747;-6.219741
LOCATION:(Venue To Be Confirmed)\, Swords\, Dublin\, Ireland
END:VEVENT
END:VCALENDAR
