BEGIN:VCALENDAR
VERSION:2.0
PRODID:-//Squarespace Inc/Squarespace 6//v6//EN
BEGIN:VEVENT
UID:55e45995e4b0c2361682f946@squarespace.com
DTSTAMP:20151007T194801Z
DTSTART:20151020T081500Z
DTEND:20151020T160000Z
SUMMARY:Refresher Occupational First Aid Course
GEO:53.444878;-6.208995
LOCATION:Holywell Communty Centre\, Hollywell Educate Together\, Swords\, D
 ublin\, Co.Dublin
END:VEVENT
END:VCALENDAR
