BEGIN:VCALENDAR
VERSION:2.0
PRODID:-//Squarespace Inc/Squarespace 6//v6//EN
BEGIN:VEVENT
UID:5362b5d3e4b0bddd58669120@squarespace.com
DTSTAMP:20160204T204905Z
DTSTART:20160205T091500Z
DTEND:20160205T170000Z
SUMMARY:Emergency First Aid And PHECC CFR Community Course
GEO:53.444878;-6.208995
LOCATION:Holywell Community Centre\, Holywell Educate Together\, Swords\, D
 ublin\, Ireland
END:VEVENT
END:VCALENDAR
