BEGIN:VCALENDAR
VERSION:2.0
PRODID:-//Squarespace Inc/Squarespace 6//v6//EN
BEGIN:VEVENT
UID:55e45280e4b06cce652a92ef@squarespace.com
DTSTAMP:20150831T135817Z
DTSTART:20151020T081500Z
DTEND:20151020T160000Z
SUMMARY:Emergency First Aid And PHECC CFR Community Course
GEO:53.444878;-6.208995
LOCATION:Holywell Community Centre\, Holywell Educate Together\, Swords\, C
 o.Dublin
END:VEVENT
END:VCALENDAR
